BEGIN:VCALENDAR
VERSION:2.0
PRODID:-//Glengarry Wines//NONSGML v1.0//EN
BEGIN:VEVENT
UID:event6809@glengarrywines.co.nz
SUMMARY:INSTORE TASTING | THOMSON TOMMY - PONSONBY
DTSTAMP:20260422T224417Z
DTSTART:20260430T040000Z
DTEND:20260430T060000Z
LOCATION;ENCODING=QUOTED-PRINTABLE:
STATUS:CONFIRMED
TRANSP:OPAQUE
X-MICROSOFT-CDO-INTENDEDSTATUS:BUSY
X-MICROSOFT-DISALLOW_COUNTER:TRUE
END:VEVENT
END:VCALENDAR
