BEGIN:VCALENDAR
VERSION:2.0
PRODID:-//Glengarry Wines//NONSGML v1.0//EN
BEGIN:VEVENT
UID:event6808@glengarrywines.co.nz
SUMMARY:INSTORE TASTING | WOODFIRED - THORNDON
DTSTAMP:20260420T071857Z
DTSTART:20260424T030000Z
DTEND:20260424T060000Z
LOCATION;ENCODING=QUOTED-PRINTABLE:
STATUS:CONFIRMED
TRANSP:OPAQUE
X-MICROSOFT-CDO-INTENDEDSTATUS:BUSY
X-MICROSOFT-DISALLOW_COUNTER:TRUE
END:VEVENT
END:VCALENDAR
